git_url: https://git.bioconductor.org/packages/RBM git_branch: RELEASE_3_13 git_last_commit: f2a8092 git_last_commit_date: 2021-05-19 12:12:25 -0400 (Wed, 19 May 2021) Package: RBM Version: 1.24.0 Maintainer: Dongmei Li MaintainerEmail: Dongmei_Li at urmc.rochester.edu