Package: RBM Version: 1.24.0 Command: /Library/Frameworks/R.framework/Versions/Current/Resources/bin/R CMD build --keep-empty-dirs --no-resave-data RBM StartedAt: 2021-10-14 14:13:55 -0400 (Thu, 14 Oct 2021) EndedAt: 2021-10-14 14:14:46 -0400 (Thu, 14 Oct 2021) EllapsedTime: 50.4 seconds RetCode: 0 Status: OK PackageFile: RBM_1.24.0.tar.gz PackageFileSize: 301.3 KiB