Package: RBM Version: 1.24.0 Command: /home/biocbuild/bbs-3.13-bioc/R/bin/R CMD build --keep-empty-dirs --no-resave-data RBM StartedAt: 2021-10-14 08:08:38 -0400 (Thu, 14 Oct 2021) EndedAt: 2021-10-14 08:09:06 -0400 (Thu, 14 Oct 2021) EllapsedTime: 27.8 seconds RetCode: 0 Status: OK PackageFile: RBM_1.24.0.tar.gz PackageFileSize: 278.1 KiB