Package: RBM Version: 1.24.0 Command: /home/biocbuild/bbs-3.13-bioc/R/bin/R CMD check --install=check:RBM.install-out.txt --library=/home/biocbuild/bbs-3.13-bioc/R/library --no-vignettes --timings RBM_1.24.0.tar.gz StartedAt: 2021-10-14 11:14:36 -0400 (Thu, 14 Oct 2021) EndedAt: 2021-10-14 11:15:11 -0400 (Thu, 14 Oct 2021) EllapsedTime: 34.3 seconds RetCode: 0 Status: OK CheckDir: RBM.Rcheck Warnings: 0