Package: RBM Version: 1.24.0 Command: /home/biocbuild/bbs-3.13-bioc/R/bin/R CMD INSTALL RBM StartedAt: 2021-10-14 06:02:44 -0400 (Thu, 14 Oct 2021) EndedAt: 2021-10-14 06:02:55 -0400 (Thu, 14 Oct 2021) EllapsedTime: 10.8 seconds RetCode: 0 Status: OK