Package: RBM Version: 1.24.0 Command: C:\Users\biocbuild\bbs-3.13-bioc\R\bin\R.exe CMD check --force-multiarch --install=check:RBM.install-out.txt --library=C:\Users\biocbuild\bbs-3.13-bioc\R\library --no-vignettes --timings RBM_1.24.0.tar.gz StartedAt: 2021-10-15 04:08:46 -0400 (Fri, 15 Oct 2021) EndedAt: 2021-10-15 04:10:18 -0400 (Fri, 15 Oct 2021) EllapsedTime: 91.6 seconds RetCode: 0 Status: OK CheckDir: RBM.Rcheck Warnings: 0