Package: RCM Version: 1.8.0 Command: rm -rf RCM.buildbin-libdir && mkdir RCM.buildbin-libdir && /Users/biocbuild/BBS/utils/build-universal.sh RCM_1.8.0.tar.gz /Library/Frameworks/R.framework/Versions/Current/Resources/bin/R RCM.buildbin-libdir StartedAt: 2021-10-15 03:39:48 -0400 (Fri, 15 Oct 2021) EndedAt: 2021-10-15 03:40:41 -0400 (Fri, 15 Oct 2021) EllapsedTime: 53.3 seconds RetCode: 0 Status: OK PackageFile: RCM_1.8.0.tgz PackageFileSize: 3.803 MiB