Package: RCM Version: 1.8.0 Command: rm -rf RCM.buildbin-libdir && mkdir RCM.buildbin-libdir && C:\Users\biocbuild\bbs-3.13-bioc\R\bin\R.exe CMD INSTALL --merge-multiarch --build --library=RCM.buildbin-libdir RCM_1.8.0.tar.gz StartedAt: 2021-10-15 11:16:33 -0400 (Fri, 15 Oct 2021) EndedAt: 2021-10-15 11:17:40 -0400 (Fri, 15 Oct 2021) EllapsedTime: 67.5 seconds RetCode: 0 Status: OK PackageFile: RCM_1.8.0.zip PackageFileSize: 3.148 MiB