Package: RCM Version: 1.8.0 Command: chmod a+r RCM -R && C:\Users\biocbuild\bbs-3.13-bioc\R\bin\R.exe CMD build --keep-empty-dirs --no-resave-data RCM StartedAt: 2021-10-14 17:27:17 -0400 (Thu, 14 Oct 2021) EndedAt: 2021-10-14 17:28:43 -0400 (Thu, 14 Oct 2021) EllapsedTime: 85.9 seconds RetCode: 0 Status: OK PackageFile: RCM_1.8.0.tar.gz PackageFileSize: 2.821 MiB