Package: RCM Version: 1.8.0 Command: C:\Users\biocbuild\bbs-3.13-bioc\R\bin\R.exe CMD check --force-multiarch --install=check:RCM.install-out.txt --library=C:\Users\biocbuild\bbs-3.13-bioc\R\library --no-vignettes --timings RCM_1.8.0.tar.gz StartedAt: 2021-10-15 04:11:01 -0400 (Fri, 15 Oct 2021) EndedAt: 2021-10-15 04:20:35 -0400 (Fri, 15 Oct 2021) EllapsedTime: 574.1 seconds RetCode: 0 Status: OK CheckDir: RCM.Rcheck Warnings: 0