git_url: https://git.bioconductor.org/packages/REBET git_branch: RELEASE_3_13 git_last_commit: fc89bb9 git_last_commit_date: 2021-05-19 12:37:31 -0400 (Wed, 19 May 2021) Package: REBET Version: 1.10.0 Maintainer: Bill Wheeler MaintainerEmail: wheelerb at imsweb.com