Package: REBET Version: 1.10.0 Command: rm -rf REBET.buildbin-libdir && mkdir REBET.buildbin-libdir && C:\Users\biocbuild\bbs-3.13-bioc\R\bin\R.exe CMD INSTALL --merge-multiarch --build --library=REBET.buildbin-libdir REBET_1.10.0.tar.gz StartedAt: 2021-10-15 11:18:24 -0400 (Fri, 15 Oct 2021) EndedAt: 2021-10-15 11:19:57 -0400 (Fri, 15 Oct 2021) EllapsedTime: 93.4 seconds RetCode: 0 Status: OK PackageFile: REBET_1.10.0.zip PackageFileSize: 278.6 KiB