git_url: https://git.bioconductor.org/packages/REDseq git_branch: RELEASE_3_13 git_last_commit: 4c3b25a git_last_commit_date: 2021-05-19 11:48:43 -0400 (Wed, 19 May 2021) Package: REDseq Version: 1.38.0 Maintainer: Lihua Julie Zhu MaintainerEmail: julie.zhu at umassmed.edu