Package: REDseq Version: 1.38.0 Command: /home/biocbuild/bbs-3.13-bioc/R/bin/R CMD check --install=check:REDseq.install-out.txt --library=/home/biocbuild/bbs-3.13-bioc/R/library --no-vignettes --timings REDseq_1.38.0.tar.gz StartedAt: 2021-10-14 11:16:30 -0400 (Thu, 14 Oct 2021) EndedAt: 2021-10-14 11:20:45 -0400 (Thu, 14 Oct 2021) EllapsedTime: 254.9 seconds RetCode: 0 Status: OK CheckDir: REDseq.Rcheck Warnings: 0