git_url: https://git.bioconductor.org/packages/REMP git_branch: RELEASE_3_13 git_last_commit: 9be0aa3 git_last_commit_date: 2021-05-19 12:25:51 -0400 (Wed, 19 May 2021) Package: REMP Version: 1.16.0 Maintainer: Yinan Zheng MaintainerEmail: y-zheng at northwestern.edu