git_url: https://git.bioconductor.org/packages/RGSEA git_branch: RELEASE_3_13 git_last_commit: 8c2b030 git_last_commit_date: 2021-05-19 12:05:38 -0400 (Wed, 19 May 2021) Package: RGSEA Version: 1.26.0 Maintainer: Chengcheng Ma MaintainerEmail: ccma at sibs.ac.cn