Package: RGSEA Version: 1.26.0 Command: /home/biocbuild/bbs-3.13-bioc/R/bin/R CMD INSTALL RGSEA StartedAt: 2021-10-14 06:04:32 -0400 (Thu, 14 Oct 2021) EndedAt: 2021-10-14 06:04:38 -0400 (Thu, 14 Oct 2021) EllapsedTime: 6.0 seconds RetCode: 0 Status: OK