Package: RGalaxy Version: 1.36.0 Command: /Library/Frameworks/R.framework/Versions/Current/Resources/bin/R CMD build --keep-empty-dirs --no-resave-data RGalaxy StartedAt: 2021-10-14 14:20:47 -0400 (Thu, 14 Oct 2021) EndedAt: 2021-10-14 14:20:57 -0400 (Thu, 14 Oct 2021) EllapsedTime: 10.9 seconds RetCode: 1 Status: ERROR PackageFile: None PackageFileSize: NA