Package: RIPAT Version: 1.2.0 Command: C:\cygwin\bin\curl.exe -O http://155.52.207.165/BBS/3.13/bioc/src/contrib/RIPAT_1.2.0.tar.gz && rm -rf RIPAT.buildbin-libdir && mkdir RIPAT.buildbin-libdir && C:\Users\biocbuild\bbs-3.13-bioc\R\bin\R.exe CMD INSTALL --merge-multiarch --build --library=RIPAT.buildbin-libdir RIPAT_1.2.0.tar.gz && C:\Users\biocbuild\bbs-3.13-bioc\R\bin\R.exe CMD INSTALL RIPAT_1.2.0.zip && rm RIPAT_1.2.0.tar.gz RIPAT_1.2.0.zip StartedAt: 2021-10-14 10:52:15 -0400 (Thu, 14 Oct 2021) EndedAt: 2021-10-14 10:52:39 -0400 (Thu, 14 Oct 2021) EllapsedTime: 24.3 seconds RetCode: 0 Status: OK