Package: RNAAgeCalc Version: 1.4.0 Command: chmod a+r RNAAgeCalc -R && C:\Users\biocbuild\bbs-3.13-bioc\R\bin\R.exe CMD build --keep-empty-dirs --no-resave-data RNAAgeCalc StartedAt: 2021-10-14 17:40:28 -0400 (Thu, 14 Oct 2021) EndedAt: 2021-10-14 17:41:41 -0400 (Thu, 14 Oct 2021) EllapsedTime: 73.3 seconds RetCode: 0 Status: OK PackageFile: RNAAgeCalc_1.4.0.tar.gz PackageFileSize: 3.289 MiB