Package: RNAAgeCalc Version: 1.4.0 Command: C:\Users\biocbuild\bbs-3.13-bioc\R\bin\R.exe CMD check --force-multiarch --install=check:RNAAgeCalc.install-out.txt --library=C:\Users\biocbuild\bbs-3.13-bioc\R\library --no-vignettes --timings RNAAgeCalc_1.4.0.tar.gz StartedAt: 2021-10-15 04:40:13 -0400 (Fri, 15 Oct 2021) EndedAt: 2021-10-15 04:47:19 -0400 (Fri, 15 Oct 2021) EllapsedTime: 425.5 seconds RetCode: 0 Status: OK CheckDir: RNAAgeCalc.Rcheck Warnings: 0