Package: RNASeqR Version: 1.10.0 Command: /Library/Frameworks/R.framework/Versions/Current/Resources/bin/R CMD build --keep-empty-dirs --no-resave-data RNASeqR StartedAt: 2021-10-14 14:28:57 -0400 (Thu, 14 Oct 2021) EndedAt: 2021-10-14 14:30:33 -0400 (Thu, 14 Oct 2021) EllapsedTime: 96.1 seconds RetCode: 1 Status: ERROR PackageFile: None PackageFileSize: NA