git_url: https://git.bioconductor.org/packages/RNAdecay git_branch: RELEASE_3_13 git_last_commit: cf277c6 git_last_commit_date: 2021-05-19 12:35:28 -0400 (Wed, 19 May 2021) Package: RNAdecay Version: 1.12.0 Maintainer: Reed Sorenson MaintainerEmail: reedssorenson at gmail.com