Package: RNAdecay Version: 1.12.0 Command: rm -rf RNAdecay.buildbin-libdir && mkdir RNAdecay.buildbin-libdir && /Users/biocbuild/BBS/utils/build-universal.sh RNAdecay_1.12.0.tar.gz /Library/Frameworks/R.framework/Versions/Current/Resources/bin/R RNAdecay.buildbin-libdir StartedAt: 2021-10-15 03:46:28 -0400 (Fri, 15 Oct 2021) EndedAt: 2021-10-15 03:51:51 -0400 (Fri, 15 Oct 2021) EllapsedTime: 323.0 seconds RetCode: 0 Status: OK PackageFile: RNAdecay_1.12.0.tgz PackageFileSize: 5.383 MiB