Package: RNAdecay Version: 1.12.0 Command: /Library/Frameworks/R.framework/Versions/Current/Resources/bin/R CMD build --keep-empty-dirs --no-resave-data RNAdecay StartedAt: 2021-10-14 14:26:35 -0400 (Thu, 14 Oct 2021) EndedAt: 2021-10-14 14:36:40 -0400 (Thu, 14 Oct 2021) EllapsedTime: 604.5 seconds RetCode: 0 Status: OK PackageFile: RNAdecay_1.12.0.tar.gz PackageFileSize: 2.708 MiB