Package: RNAdecay Version: 1.12.0 Command: /Library/Frameworks/R.framework/Versions/Current/Resources/bin/R CMD check --install=check:RNAdecay.install-out.txt --library=/Library/Frameworks/R.framework/Versions/Current/Resources/library --no-vignettes --timings RNAdecay_1.12.0.tar.gz StartedAt: 2021-10-14 23:15:32 -0400 (Thu, 14 Oct 2021) EndedAt: 2021-10-14 23:16:09 -0400 (Thu, 14 Oct 2021) EllapsedTime: 36.9 seconds RetCode: 0 Status: OK CheckDir: RNAdecay.Rcheck Warnings: 0