Package: RNAdecay Version: 1.12.0 Command: /home/biocbuild/bbs-3.13-bioc/R/bin/R CMD build --keep-empty-dirs --no-resave-data RNAdecay StartedAt: 2021-10-14 08:13:39 -0400 (Thu, 14 Oct 2021) EndedAt: 2021-10-14 08:22:22 -0400 (Thu, 14 Oct 2021) EllapsedTime: 523.3 seconds RetCode: 0 Status: OK PackageFile: RNAdecay_1.12.0.tar.gz PackageFileSize: 2.707 MiB