Package: RNAdecay Version: 1.12.0 Command: C:\Users\biocbuild\bbs-3.13-bioc\R\bin\R.exe CMD check --force-multiarch --install=check:RNAdecay.install-out.txt --library=C:\Users\biocbuild\bbs-3.13-bioc\R\library --no-vignettes --timings RNAdecay_1.12.0.tar.gz StartedAt: 2021-10-15 04:40:22 -0400 (Fri, 15 Oct 2021) EndedAt: 2021-10-15 04:43:22 -0400 (Fri, 15 Oct 2021) EllapsedTime: 180.4 seconds RetCode: 0 Status: OK CheckDir: RNAdecay.Rcheck Warnings: 0