Package: RNAither Version: 2.40.0 Command: /home/biocbuild/bbs-3.13-bioc/R/bin/R CMD build --keep-empty-dirs --no-resave-data RNAither StartedAt: 2021-10-14 08:14:03 -0400 (Thu, 14 Oct 2021) EndedAt: 2021-10-14 08:14:03 -0400 (Thu, 14 Oct 2021) EllapsedTime: 0.7 seconds RetCode: 1 Status: ERROR PackageFile: None PackageFileSize: NA