############################################################################## ############################################################################## ### ### Running command: ### ### chmod a+r RNAither -R && C:\Users\biocbuild\bbs-3.13-bioc\R\bin\R.exe CMD build --keep-empty-dirs --no-resave-data RNAither ### ############################################################################## ############################################################################## * checking for file 'RNAither/DESCRIPTION' ... OK * preparing 'RNAither': * checking DESCRIPTION meta-information ... OK * installing the package to build vignettes ----------------------------------- ERROR: dependency 'prada' is not available for package 'RNAither' * removing 'C:/Users/biocbuild/bbs-3.13-bioc/tmpdir/RtmpotFHu5/Rinste7c65a54021/RNAither' ----------------------------------- ERROR: package installation failed