Package: RNAither Version: 2.40.0 Command: C:\cygwin\bin\curl.exe -O http://155.52.207.165/BBS/3.13/bioc/src/contrib/RNAither_2.40.0.tar.gz && rm -rf RNAither.buildbin-libdir && mkdir RNAither.buildbin-libdir && C:\Users\biocbuild\bbs-3.13-bioc\R\bin\R.exe CMD INSTALL --merge-multiarch --build --library=RNAither.buildbin-libdir RNAither_2.40.0.tar.gz && C:\Users\biocbuild\bbs-3.13-bioc\R\bin\R.exe CMD INSTALL RNAither_2.40.0.zip && rm RNAither_2.40.0.tar.gz RNAither_2.40.0.zip StartedAt: 2021-10-14 11:28:34 -0400 (Thu, 14 Oct 2021) EndedAt: 2021-10-14 11:28:36 -0400 (Thu, 14 Oct 2021) EllapsedTime: 1.9 seconds RetCode: 1 Status: ERROR