Package: RNAmodR.ML Version: 1.6.0 Command: C:\Users\biocbuild\bbs-3.13-bioc\R\bin\R.exe CMD check --force-multiarch --install=check:RNAmodR.ML.install-out.txt --library=C:\Users\biocbuild\bbs-3.13-bioc\R\library --no-vignettes --timings RNAmodR.ML_1.6.0.tar.gz StartedAt: 2021-10-15 04:42:13 -0400 (Fri, 15 Oct 2021) EndedAt: 2021-10-15 04:53:05 -0400 (Fri, 15 Oct 2021) EllapsedTime: 652.1 seconds RetCode: 0 Status: OK CheckDir: RNAmodR.ML.Rcheck Warnings: 0