Package: RNAmodR.RiboMethSeq Version: 1.6.0 Command: rm -rf RNAmodR.RiboMethSeq.buildbin-libdir && mkdir RNAmodR.RiboMethSeq.buildbin-libdir && /Users/biocbuild/BBS/utils/build-universal.sh RNAmodR.RiboMethSeq_1.6.0.tar.gz /Library/Frameworks/R.framework/Versions/Current/Resources/bin/R RNAmodR.RiboMethSeq.buildbin-libdir StartedAt: 2021-10-15 03:47:01 -0400 (Fri, 15 Oct 2021) EndedAt: 2021-10-15 03:48:21 -0400 (Fri, 15 Oct 2021) EllapsedTime: 80.5 seconds RetCode: 0 Status: OK PackageFile: RNAmodR.RiboMethSeq_1.6.0.tgz PackageFileSize: 750.8 KiB