git_url: https://git.bioconductor.org/packages/ROCpAI git_branch: RELEASE_3_13 git_last_commit: 137d7ce git_last_commit_date: 2021-05-19 12:50:42 -0400 (Wed, 19 May 2021) Package: ROCpAI Version: 1.4.0 Maintainer: Juan-Pedro Garcia MaintainerEmail: juanpedro.garcia4 at um.es