Package: ROCpAI Version: 1.4.0 Command: chmod a+r ROCpAI -R && C:\Users\biocbuild\bbs-3.13-bioc\R\bin\R.exe CMD build --keep-empty-dirs --no-resave-data ROCpAI StartedAt: 2021-10-14 17:45:06 -0400 (Thu, 14 Oct 2021) EndedAt: 2021-10-14 17:45:41 -0400 (Thu, 14 Oct 2021) EllapsedTime: 35.8 seconds RetCode: 0 Status: OK PackageFile: ROCpAI_1.4.0.tar.gz PackageFileSize: 306.8 KiB