Package: ROTS Version: 1.20.0 Command: chmod a+r ROTS -R && C:\Users\biocbuild\bbs-3.13-bioc\R\bin\R.exe CMD build --keep-empty-dirs --no-resave-data ROTS StartedAt: 2021-10-14 17:46:13 -0400 (Thu, 14 Oct 2021) EndedAt: 2021-10-14 17:47:06 -0400 (Thu, 14 Oct 2021) EllapsedTime: 53.3 seconds RetCode: 0 Status: OK PackageFile: ROTS_1.20.0.tar.gz PackageFileSize: 362.3 KiB