Package: ROntoTools Version: 2.20.0 Command: /Library/Frameworks/R.framework/Versions/Current/Resources/bin/R CMD check --install=check:ROntoTools.install-out.txt --library=/Library/Frameworks/R.framework/Versions/Current/Resources/library --no-vignettes --timings ROntoTools_2.20.0.tar.gz StartedAt: 2021-10-14 23:21:10 -0400 (Thu, 14 Oct 2021) EndedAt: 2021-10-14 23:24:31 -0400 (Thu, 14 Oct 2021) EllapsedTime: 200.9 seconds RetCode: 0 Status: OK CheckDir: ROntoTools.Rcheck Warnings: 0