Package: ROntoTools Version: 2.20.0 Command: /home/biocbuild/bbs-3.13-bioc/R/bin/R CMD build --keep-empty-dirs --no-resave-data ROntoTools StartedAt: 2021-10-14 08:15:26 -0400 (Thu, 14 Oct 2021) EndedAt: 2021-10-14 08:16:02 -0400 (Thu, 14 Oct 2021) EllapsedTime: 36.3 seconds RetCode: 0 Status: OK PackageFile: ROntoTools_2.20.0.tar.gz PackageFileSize: 1.373 MiB