Package: RPA Version: 1.48.0 Command: /Library/Frameworks/R.framework/Versions/Current/Resources/bin/R CMD build --keep-empty-dirs --no-resave-data RPA StartedAt: 2021-10-14 14:31:36 -0400 (Thu, 14 Oct 2021) EndedAt: 2021-10-14 14:32:08 -0400 (Thu, 14 Oct 2021) EllapsedTime: 32.7 seconds RetCode: 0 Status: OK PackageFile: RPA_1.48.0.tar.gz PackageFileSize: 260.3 KiB