Package: RPA Version: 1.48.0 Command: rm -rf RPA.buildbin-libdir && mkdir RPA.buildbin-libdir && C:\Users\biocbuild\bbs-3.13-bioc\R\bin\R.exe CMD INSTALL --merge-multiarch --build --library=RPA.buildbin-libdir RPA_1.48.0.tar.gz StartedAt: 2021-10-15 11:29:41 -0400 (Fri, 15 Oct 2021) EndedAt: 2021-10-15 11:31:15 -0400 (Fri, 15 Oct 2021) EllapsedTime: 94.0 seconds RetCode: 0 Status: OK PackageFile: RPA_1.48.0.zip PackageFileSize: 443.5 KiB