git_url: https://git.bioconductor.org/packages/RProtoBufLib git_branch: RELEASE_3_13 git_last_commit: 49aa129 git_last_commit_date: 2021-05-19 12:28:30 -0400 (Wed, 19 May 2021) Package: RProtoBufLib Version: 2.4.0 Maintainer: Mike Jiang MaintainerEmail: mike at ozette.ai