Package: RProtoBufLib Version: 2.4.0 Command: rm -rf RProtoBufLib.buildbin-libdir && mkdir RProtoBufLib.buildbin-libdir && /Users/biocbuild/BBS/utils/build-universal.sh RProtoBufLib_2.4.0.tar.gz /Library/Frameworks/R.framework/Versions/Current/Resources/bin/R RProtoBufLib.buildbin-libdir StartedAt: 2021-10-15 03:48:32 -0400 (Fri, 15 Oct 2021) EndedAt: 2021-10-15 03:57:07 -0400 (Fri, 15 Oct 2021) EllapsedTime: 515.3 seconds RetCode: 0 Status: OK PackageFile: RProtoBufLib_2.4.0.tgz PackageFileSize: 3.448 MiB