Package: RProtoBufLib Version: 2.4.0 Command: /Library/Frameworks/R.framework/Versions/Current/Resources/bin/R CMD build --keep-empty-dirs --no-resave-data RProtoBufLib StartedAt: 2021-10-14 14:31:52 -0400 (Thu, 14 Oct 2021) EndedAt: 2021-10-14 14:42:38 -0400 (Thu, 14 Oct 2021) EllapsedTime: 645.7 seconds RetCode: 0 Status: OK PackageFile: RProtoBufLib_2.4.0.tar.gz PackageFileSize: 4.93 MiB