Package: RProtoBufLib Version: 2.4.0 Command: /Library/Frameworks/R.framework/Versions/Current/Resources/bin/R CMD INSTALL RProtoBufLib StartedAt: 2021-10-14 08:05:23 -0400 (Thu, 14 Oct 2021) EndedAt: 2021-10-14 08:13:26 -0400 (Thu, 14 Oct 2021) EllapsedTime: 483.1 seconds RetCode: 0 Status: OK