Package: RProtoBufLib Version: 2.4.0 Command: /home/biocbuild/bbs-3.13-bioc/R/bin/R CMD build --keep-empty-dirs --no-resave-data RProtoBufLib StartedAt: 2021-10-14 08:15:57 -0400 (Thu, 14 Oct 2021) EndedAt: 2021-10-14 08:25:26 -0400 (Thu, 14 Oct 2021) EllapsedTime: 569.2 seconds RetCode: 0 Status: OK PackageFile: RProtoBufLib_2.4.0.tar.gz PackageFileSize: 4.994 MiB