Package: RProtoBufLib Version: 2.4.0 Command: /home/biocbuild/bbs-3.13-bioc/R/bin/R CMD check --install=check:RProtoBufLib.install-out.txt --library=/home/biocbuild/bbs-3.13-bioc/R/library --no-vignettes --timings RProtoBufLib_2.4.0.tar.gz StartedAt: 2021-10-14 11:24:40 -0400 (Thu, 14 Oct 2021) EndedAt: 2021-10-14 11:24:53 -0400 (Thu, 14 Oct 2021) EllapsedTime: 13.1 seconds RetCode: 0 Status: WARNINGS CheckDir: RProtoBufLib.Rcheck Warnings: 1