Package: RProtoBufLib Version: 2.4.0 Command: C:\Users\biocbuild\bbs-3.13-bioc\R\bin\R.exe CMD check --force-multiarch --install=check:RProtoBufLib.install-out.txt --library=C:\Users\biocbuild\bbs-3.13-bioc\R\library --no-vignettes --timings RProtoBufLib_2.4.0.tar.gz StartedAt: 2021-10-15 04:49:32 -0400 (Fri, 15 Oct 2021) EndedAt: 2021-10-15 04:50:15 -0400 (Fri, 15 Oct 2021) EllapsedTime: 43.2 seconds RetCode: 0 Status: OK CheckDir: RProtoBufLib.Rcheck Warnings: 0