git_url: https://git.bioconductor.org/packages/RSVSim git_branch: RELEASE_3_13 git_last_commit: 7c52c69 git_last_commit_date: 2021-05-19 11:55:06 -0400 (Wed, 19 May 2021) Package: RSVSim Version: 1.32.0 Maintainer: Christoph Bartenhagen MaintainerEmail: c.bartenhagen at uni-koeln.de