Package: RSVSim Version: 1.32.0 Command: /Library/Frameworks/R.framework/Versions/Current/Resources/bin/R CMD check --install=check:RSVSim.install-out.txt --library=/Library/Frameworks/R.framework/Versions/Current/Resources/library --no-vignettes --timings RSVSim_1.32.0.tar.gz StartedAt: 2021-10-14 23:26:14 -0400 (Thu, 14 Oct 2021) EndedAt: 2021-10-14 23:30:05 -0400 (Thu, 14 Oct 2021) EllapsedTime: 231.1 seconds RetCode: 0 Status: OK CheckDir: RSVSim.Rcheck Warnings: 0