Package: RSVSim Version: 1.32.0 Command: rm -rf RSVSim.buildbin-libdir && mkdir RSVSim.buildbin-libdir && C:\Users\biocbuild\bbs-3.13-bioc\R\bin\R.exe CMD INSTALL --merge-multiarch --build --library=RSVSim.buildbin-libdir RSVSim_1.32.0.tar.gz StartedAt: 2021-10-15 11:31:57 -0400 (Fri, 15 Oct 2021) EndedAt: 2021-10-15 11:33:14 -0400 (Fri, 15 Oct 2021) EllapsedTime: 76.8 seconds RetCode: 0 Status: OK PackageFile: RSVSim_1.32.0.zip PackageFileSize: 691.9 KiB